BEGIN:VCALENDAR
VERSION:2.0
PRODID:-//FreiRaumStation - ECPv6.15.11//NONSGML v1.0//EN
CALSCALE:GREGORIAN
METHOD:PUBLISH
X-ORIGINAL-URL:https://www.freiraumstation.de
X-WR-CALDESC:Veranstaltungen für FreiRaumStation
REFRESH-INTERVAL;VALUE=DURATION:PT1H
X-Robots-Tag:noindex
X-PUBLISHED-TTL:PT1H
BEGIN:VTIMEZONE
TZID:Europe/Berlin
BEGIN:DAYLIGHT
TZOFFSETFROM:+0100
TZOFFSETTO:+0200
TZNAME:CEST
DTSTART:20220327T010000
END:DAYLIGHT
BEGIN:STANDARD
TZOFFSETFROM:+0200
TZOFFSETTO:+0100
TZNAME:CET
DTSTART:20221030T010000
END:STANDARD
BEGIN:DAYLIGHT
TZOFFSETFROM:+0100
TZOFFSETTO:+0200
TZNAME:CEST
DTSTART:20230326T010000
END:DAYLIGHT
BEGIN:STANDARD
TZOFFSETFROM:+0200
TZOFFSETTO:+0100
TZNAME:CET
DTSTART:20231029T010000
END:STANDARD
BEGIN:DAYLIGHT
TZOFFSETFROM:+0100
TZOFFSETTO:+0200
TZNAME:CEST
DTSTART:20240331T010000
END:DAYLIGHT
BEGIN:STANDARD
TZOFFSETFROM:+0200
TZOFFSETTO:+0100
TZNAME:CET
DTSTART:20241027T010000
END:STANDARD
END:VTIMEZONE
BEGIN:VEVENT
DTSTART;TZID=Europe/Berlin:20230629T190000
DTEND;TZID=Europe/Berlin:20230729T210000
DTSTAMP:20260425T211459
CREATED:20230531T124752Z
LAST-MODIFIED:20230602T121318Z
UID:1935-1688065200-1690664400@www.freiraumstation.de
SUMMARY:»SeaWatch – Zivile Seenotrettung von Menschen auf der Flucht« - Sea-Watch e.V.
DESCRIPTION:Jährlich ertrinken Menschen auf der Flucht nach Europa. Die europäischen Staaten weigern sich\, ihrer völkerrechtlichen Pflicht nachzukommen und diese Menschen zu retten. Damit nicht genug: In den letzten Jahren haben sie sich vor allem durch unterlassene Hilfeleistung und Menschenrechtsverletzungen einen Namen gemacht. \nSea-Watch e.V. ist eine gemeinnützige Initiative\, die sich der zivilen Seenotrettung im zentralen Mittelmeer verschrieben hat. Angesichts einer andauernden und staatlich initiierten humanitären Katastrophe leisten wir akute Nothilfe. Wir fordern und forcieren Rettungseinsätze durch die zuständigen europäischen Institutionen und stehen öffentlich für legale Fluchtwege sowie für Bewegungsfreiheit und ein solidarisches Europa ein. \nErfahren sie in diesem spannenden und eindrucksvollen Vortrag mehr über die Aktionen von Sea-Watch und die Menschen hinter den Aktionen die täglich im Einsatz an ihre physischen und psychischen Grenzen gehen um Menschenleben zu retten.
URL:https://www.freiraumstation.de/termin/seawatch-zivile-seenotrettung-von-menschen-auf-der-flucht-sea-watch-e-v/
LOCATION:SichtBar e.V. im Glashaus Borken\, Bahnhofstraße 32\, Borken (Hessen)\, 34582
CATEGORIES:Borken,Glashaus Borken,Vortrag
ATTACH;FMTTYPE=image/jpeg:https://www.freiraumstation.de/wp-content/uploads/2023/05/20230202_Watch_Sea_ZivileSeenotrettungVon.jpg
END:VEVENT
BEGIN:VEVENT
DTSTART;TZID=Europe/Berlin:20230706T163000
DTEND;TZID=Europe/Berlin:20230706T180000
DTSTAMP:20260425T211459
CREATED:20230516T095712Z
LAST-MODIFIED:20230516T113314Z
UID:1430-1688661000-1688666400@www.freiraumstation.de
SUMMARY:Offene Kaffeetafel im DialogRaum
DESCRIPTION:Miteinander reden und mitreden: Die Offene Kaffeetafel lädt alle Interessierten und bereits Beteiligten ein\, Ideen beizutragen\, um Borken jetzt und zukünftig mitzugestalten. Bei Kaffee und Kuchen tauschen wir uns aus über Zukunftsvisionen\, konkrete Projekte und MöglichkeitsRäume\, \nHier gehts zur Pressemitteilung der Veranstaltungsreihe
URL:https://www.freiraumstation.de/termin/offene-kaffeetafel-im-dialograum/
LOCATION:FreiRaumStation Bahnhofstraße 36\, Borken (Hessen)
CATEGORIES:Austausch,Borken
ATTACH;FMTTYPE=image/jpeg:https://www.freiraumstation.de/wp-content/uploads/2023/05/DialogRaum-offene-Kaffeetafel.jpg
END:VEVENT
BEGIN:VEVENT
DTSTART;TZID=Europe/Berlin:20230706T183000
DTEND;TZID=Europe/Berlin:20230706T200000
DTSTAMP:20260425T211459
CREATED:20230516T103401Z
LAST-MODIFIED:20230516T113321Z
UID:1466-1688668200-1688673600@www.freiraumstation.de
SUMMARY:Abendspaziergang
DESCRIPTION:Die Abendspaziergänge sind eine Einladung zu einem gemeinsamen Blick in die Borkener Innenstadt. Was ist möglich in Borken? Im Ge(h)spräch sollen gemeinsame Wege durch die Stadt entstehen. \nDie DialogRäume der FreiRaumStation laden alle Menschen\, die Borken mitgestalten möchten\, ein\, ihre Ideen einzubringen und ins Gespräch zu bringen. Dies soll Anlass geben\, sich als gemeinsame Akteure der Stadt gegenseitig kennenzulernen und Potentiale vor Ort zu entdecken. Alle Veranstaltungen sind kostenfrei. \nHier gehts zur Pressemitteilung der Veranstaltungsreihe
URL:https://www.freiraumstation.de/termin/abendspaziergang/
LOCATION:FreiRaumStation Bahnhofstraße 36\, Borken (Hessen)
CATEGORIES:Austausch,Borken
ATTACH;FMTTYPE=image/jpeg:https://www.freiraumstation.de/wp-content/uploads/2023/05/DialogRaum_Spaziergaenge.jpg
ORGANIZER;CN="FreiRaumStation":MAILTO:eva@zukunftsoptimisten.de
END:VEVENT
BEGIN:VEVENT
DTSTART;TZID=Europe/Berlin:20230706T190000
DTEND;TZID=Europe/Berlin:20230706T213000
DTSTAMP:20260425T211459
CREATED:20230531T124841Z
LAST-MODIFIED:20230621T121734Z
UID:1936-1688670000-1688679000@www.freiraumstation.de
SUMMARY:»Jazz im Sommer« - Weekend Jazz Trio
DESCRIPTION:Jazz steht für Melodie und Rhythmus\, Tradition und Innovation\, Kreativität und Vielfalt\, Individualismus und Interaktion. Und vor allem macht Jazz Spaß! Das Weekend Jazz Trio aus Kassel tritt an mit der klassischen Besetzung aus Piano\, Schlagzeug und Kontrabass. Respekt vor den Kompositionen\, konzentriertes Zusammenspiel und ein abwechslungsreiches Programm aus Swing\, Blues\, lateinamerikanische Rhythmen und Balladen – beste Unterhaltung an einem Sommerabend! \nAnnika Sulimma – Klavier\nRüdiger Splitter – Schlagzeug\nGerrit Schäfer – Kontrabass
URL:https://www.freiraumstation.de/termin/jazz-im-sommer-weekend-jazz-trio/
LOCATION:SichtBar e.V. im Glashaus Borken\, Bahnhofstraße 32\, Borken (Hessen)\, 34582
CATEGORIES:Borken,Glashaus Borken,Konzert
ATTACH;FMTTYPE=image/jpeg:https://www.freiraumstation.de/wp-content/uploads/2023/05/20230206_WeekendJazzTrio.jpg
END:VEVENT
BEGIN:VEVENT
DTSTART;TZID=Europe/Berlin:20230709T140000
DTEND;TZID=Europe/Berlin:20230709T160000
DTSTAMP:20260425T211459
CREATED:20230531T124951Z
LAST-MODIFIED:20230602T121321Z
UID:1937-1688911200-1688918400@www.freiraumstation.de
SUMMARY:»Bauernkünste – die Menschen hinter unseren Lebensmitteln« - Miriam Leitner
DESCRIPTION:„Es ist an der Zeit\, dass man mal mit uns spricht\, nicht nur über uns.“ \nFür ihr Interview- und Porträtprojekt hat Miriam Leitner in Ställen\, an Küchentischen\, auf Feldern und Wiesen die Menschen getroffen\, die dafür sorgen\, dass wir satt werden. Dass irgendwie alles mit allem zusammenhängt und es keine einfachen Lösungen gibt\, dass öko nicht heilig und konventionell nicht zu verteufeln ist war die Grundlage für die Gespräche. Durch diese Offenheit und Unvoreingenommenheit sind ehrliche und persönliche Porträts und Texte entstanden. Beides können Sie im Glashaus erkunden und diskutieren. \n  \nÖffnungszeite:\nan Do. ab 19:00 Uhr\nan So. 14:00 – 17:00 Uhr
URL:https://www.freiraumstation.de/termin/bauernkuenste-die-menschen-hinter-unseren-lebensmitteln-miriam-leitner/
LOCATION:SichtBar e.V. im Glashaus Borken\, Bahnhofstraße 32\, Borken (Hessen)\, 34582
CATEGORIES:Ausstellung,Borken,Glashaus Borken
ATTACH;FMTTYPE=image/jpeg:https://www.freiraumstation.de/wp-content/uploads/2023/05/20230119_Leitner_Bauernkuenste.jpg
END:VEVENT
BEGIN:VEVENT
DTSTART;TZID=Europe/Berlin:20230709T140000
DTEND;TZID=Europe/Berlin:20230709T170000
DTSTAMP:20260425T211459
CREATED:20230531T125057Z
LAST-MODIFIED:20230602T121322Z
UID:1951-1688911200-1688922000@www.freiraumstation.de
SUMMARY:»Allerhand aus Immerland« - Eva-Maria Balkenhol & Welf Kerner
DESCRIPTION:Ein charmantes Duo\, dass stets mit ihrer Lebendigkeit überrascht und mit ihrer Spielfreude ansteckt. Ein „Virus“\, mit dem es sich anzustecken lohnt! Sie erschaffen in Ihrer Phantasie ein Land der spirituellen Freiheit und Erleuchtung\, in dem jeder zum Kern seiner Seele finden kann. Dieses imaginäre Land names Immerland bezeichnet nicht nur ihr erstes gemeinsames Bühnenstück\, sondern auch eine Lebenseinstellung voller Hoffnung und Selbstentfaltung losgelöst von Zeit und Raum. \nSie begegnen dem herrschendem Wahn und Irrsinn auf einer höheren künstlerischen Ebene\, verarbeiten Dissonanzen\, lösen diese auf um zur Heilung und Genesung des Gemeinwesens beizutragen. So ist alles durch Liebe und Erkenntnis verbunden\, die jedes Individuum ebenso in sich trägt\, wie das große Ganze. \n„Woher komme ich? Wohin gehe ich? Wer bin ich? Wo gehöre ich hin? Was ist das Geheimnis des Glücks?“ \nDas sind die Fragen\, die die beiden Künstler inspirieren. Sie bündeln ihre vielfältigen Talente zu einem Roadtrip der etwas anderen Art. Berührend\, traumhaft\, echt\, verrückt und herzlich. Ein Stück für Suchende und Versuchende nach dem Leitsatz: „Für uns gibt es nur ein Muss: In Richtung der Sehnsucht!“
URL:https://www.freiraumstation.de/termin/allerhand-aus-immerland-eva-maria-balkenhol-welf-kerner/
LOCATION:SichtBar e.V. im Glashaus Borken\, Bahnhofstraße 32\, Borken (Hessen)\, 34582
CATEGORIES:Borken,Glashaus Borken,Konzert
ATTACH;FMTTYPE=image/jpeg:https://www.freiraumstation.de/wp-content/uploads/2023/05/20230326_AllerhandAusImmerland_Balkenhof_Kerner.jpg
END:VEVENT
BEGIN:VEVENT
DTSTART;TZID=Europe/Berlin:20230713T190000
DTEND;TZID=Europe/Berlin:20230713T210000
DTSTAMP:20260425T211459
CREATED:20230531T125143Z
LAST-MODIFIED:20230602T121323Z
UID:1952-1689274800-1689282000@www.freiraumstation.de
SUMMARY:»Bauernkünste – die Menschen hinter unseren Lebensmitteln« - Miriam Leitner
DESCRIPTION:„Es ist an der Zeit\, dass man mal mit uns spricht\, nicht nur über uns.“ \nFür ihr Interview- und Porträtprojekt hat Miriam Leitner in Ställen\, an Küchentischen\, auf Feldern und Wiesen die Menschen getroffen\, die dafür sorgen\, dass wir satt werden. Dass irgendwie alles mit allem zusammenhängt und es keine einfachen Lösungen gibt\, dass öko nicht heilig und konventionell nicht zu verteufeln ist war die Grundlage für die Gespräche. Durch diese Offenheit und Unvoreingenommenheit sind ehrliche und persönliche Porträts und Texte entstanden. Beides können Sie im Glashaus erkunden und diskutieren.
URL:https://www.freiraumstation.de/termin/bauernkuenste-die-menschen-hinter-unseren-lebensmitteln-miriam-leitner-2/
LOCATION:SichtBar e.V. im Glashaus Borken\, Bahnhofstraße 32\, Borken (Hessen)\, 34582
CATEGORIES:Borken,Glashaus Borken,Lesung
ATTACH;FMTTYPE=image/jpeg:https://www.freiraumstation.de/wp-content/uploads/2023/05/20230120_Leitner_Bauernkuenste.jpg
END:VEVENT
BEGIN:VEVENT
DTSTART;TZID=Europe/Berlin:20230718T180000
DTEND;TZID=Europe/Berlin:20230718T200000
DTSTAMP:20260425T211459
CREATED:20230516T102205Z
LAST-MODIFIED:20230516T113215Z
UID:1461-1689703200-1689710400@www.freiraumstation.de
SUMMARY:Beratungsabend für Ehrenamtliche - Ideen Gründung und Finanzierung für Vereine und Initiativen
DESCRIPTION:Bürgerschaftliches Engagement verdient Anerkennung und Unterstützung. Vereine und Initiativen sowie auch Kommunen und Einzelpersonen\, können sich mit allgemeinen und konkreten Fragen zu ehrenamtlichem Engagement an die Koordinierungsstelle Ehrenamt des Landkreises wenden. Auch eine Prozessbegleitung und Coaching sind möglich.\nThematische Schwerpunkte liegen in der strukturellen und operativen Vereinsarbeit\, dem Aufbau engagementfördernder Strukturen\, dem Fördermittelmanagement und der Gründungsberatung. \nFür die Veranstaltung ist keine Anmeldung notwendig. Das Angebot ist kostenfrei.
URL:https://www.freiraumstation.de/termin/beratungsabend-fuer-ehrenamtliche-ideen-gruendung-und-finanzierung-fuer-vereine-und-initiativen/
LOCATION:FreiRaumStation Bahnhofstraße 36\, Borken (Hessen)
CATEGORIES:Beratung,Borken
ATTACH;FMTTYPE=image/jpeg:https://www.freiraumstation.de/wp-content/uploads/2023/05/FRS_Ehrenamt.jpg
ORGANIZER;CN="Koordinierungsstelle Ehrenamt Schwalm-Eder":MAILTO:ehrenamt@schwalm-eder-kreis.de
END:VEVENT
BEGIN:VEVENT
DTSTART;TZID=Europe/Berlin:20230722T080000
DTEND;TZID=Europe/Berlin:20230831T170000
DTSTAMP:20260425T211459
CREATED:20230724T130310Z
LAST-MODIFIED:20230724T131733Z
UID:2213-1690012800-1693501200@www.freiraumstation.de
SUMMARY:Ausstellung »Blickwinkel: Wandel – Veränderung«
DESCRIPTION:Wandel und Veränderung wecken Emotionen\, auf persönlicher\, zwischenmenschlicher und gesellschaftlicher Ebene. Man blickt wehmütig zurück\, hat Angst vor dem Ungewissen und weiß nicht\, wie man sich von lieb Gewordenem verabschieden soll. \nDaneben steht die Freude über das Ende des Altbekannten und über den Neubeginn. Die Neugierde auf das Kommende setzt Energie und Ideen frei. \nÜber zwei Jahre hinweg war eine Gruppe von Fotograf*innen Wandel und Veränderung in Natur und Technik\, in Gesellschaft\, Familie und im persönlichen Bereich auf der Spur. \nEntstanden ist eine Fotoausstellung\, die zahlreiche Facetten des Themas aufzeigt und Denkanstöße geben möchte. \nLeitung Sabine Große \nFotograf*innen Klaus Biermann\, Axel Engelhardt\, Eva Feyerabend\, Erika Koop-Staude\, Miriam Leitner\, Diana Littebrand\, Agnes Nölke- Spiekermann\, Reinhard Oertelt\, Birgit Rosenbaum\, Walter Schartel\, Dorle Thiel \nPräsentiert werden die Arbeiten in Borken in verschiedenen Schaufenstern in der Bahnhofstraße\, im Hotel am Stadtpark sowie in zwei Freiraumstationen.
URL:https://www.freiraumstation.de/termin/ausstellung-blickwinkel-wandel-veraenderung/
LOCATION:SichtBar e.V. im Glashaus Borken\, Bahnhofstraße 32\, Borken (Hessen)\, 34582
CATEGORIES:Ausstellung,Borken,Glashaus Borken
ATTACH;FMTTYPE=image/jpeg:https://www.freiraumstation.de/wp-content/uploads/2023/07/ausstellung-borken-fotos.jpg
END:VEVENT
BEGIN:VEVENT
DTSTART;TZID=Europe/Berlin:20230727T190000
DTEND;TZID=Europe/Berlin:20230727T213000
DTSTAMP:20260425T211459
CREATED:20230531T125344Z
LAST-MODIFIED:20230724T081654Z
UID:1957-1690484400-1690493400@www.freiraumstation.de
SUMMARY:ABGESAGT - »Der Sandmann von Kassel – musikalische Autorenlesung« - Nicole Braun
DESCRIPTION:Leider müssen wir (Das Glashaus-Team) Ihnen mitteilen\, dass diese Veranstaltung abgesagt werden muss und es keinen Ersatztermin geben wird. Wir bitten um Ihr Verständnis. \nEine grausige Mordserie hält Kassel in Atem – und nur noch zwei Wochen\, bis die Stadt von documenta-Besuchern aus aller Welt überrannt wird. Mittendrin: Anwalt Meinhard Petri\, dessen schlimmster Albtraum wahr wird. \nAUGE UM AUGE\n»Schlaf\, Kassel\, schlaf.\nPetri hüt die Schaf.\nDer Mörder schärft das Messer fein\nund sticht damit ins Äugelein.\nSchlaf\, Kassel\, schlaf.\nUnser gemeinsamer Freund freut sich\nauf Ihren Besuch.\nSie sollten ihn nicht enttäuschen.\nAzrael« \nWenn Nicole Braun ihre Bücher vorstellt\, dann verspricht es ein unterhaltsamer Abend zu werden: Leise Songs begleiten gelesene Auszüge aus den Werken der Autorin und ihrer literarischen Einflüsse. Bisweilen verschmelzen Text und Musik\, und so wandelt unter anderem ein Vampir im Mondschein durch das nächtliche New Orleans. \nMusik von „next stop“: \n\nNicole Braun (Gesang)\nGabriel Stein (Kontrabass)\nFriedhelm Möller (Piano)\nRobert Pfaff (Schlagzeug)
URL:https://www.freiraumstation.de/termin/der-sandmann-von-kassel-musikalische-autorenlesung-nicole-braun/
LOCATION:SichtBar e.V. im Glashaus Borken\, Bahnhofstraße 32\, Borken (Hessen)\, 34582
CATEGORIES:Borken,Glashaus Borken,Lesung
ATTACH;FMTTYPE=image/jpeg:https://www.freiraumstation.de/wp-content/uploads/2023/05/20230328_Braun_Nicole_DerSandmannVonKassel.jpg
END:VEVENT
END:VCALENDAR