BEGIN:VCALENDAR
VERSION:2.0
PRODID:-//FreiRaumStation - ECPv6.15.11//NONSGML v1.0//EN
CALSCALE:GREGORIAN
METHOD:PUBLISH
X-WR-CALNAME:FreiRaumStation
X-ORIGINAL-URL:https://www.freiraumstation.de
X-WR-CALDESC:Veranstaltungen für FreiRaumStation
REFRESH-INTERVAL;VALUE=DURATION:PT1H
X-Robots-Tag:noindex
X-PUBLISHED-TTL:PT1H
BEGIN:VTIMEZONE
TZID:Europe/Berlin
BEGIN:DAYLIGHT
TZOFFSETFROM:+0100
TZOFFSETTO:+0200
TZNAME:CEST
DTSTART:20220327T010000
END:DAYLIGHT
BEGIN:STANDARD
TZOFFSETFROM:+0200
TZOFFSETTO:+0100
TZNAME:CET
DTSTART:20221030T010000
END:STANDARD
BEGIN:DAYLIGHT
TZOFFSETFROM:+0100
TZOFFSETTO:+0200
TZNAME:CEST
DTSTART:20230326T010000
END:DAYLIGHT
BEGIN:STANDARD
TZOFFSETFROM:+0200
TZOFFSETTO:+0100
TZNAME:CET
DTSTART:20231029T010000
END:STANDARD
BEGIN:DAYLIGHT
TZOFFSETFROM:+0100
TZOFFSETTO:+0200
TZNAME:CEST
DTSTART:20240331T010000
END:DAYLIGHT
BEGIN:STANDARD
TZOFFSETFROM:+0200
TZOFFSETTO:+0100
TZNAME:CET
DTSTART:20241027T010000
END:STANDARD
END:VTIMEZONE
BEGIN:VEVENT
DTSTART;TZID=Europe/Berlin:20231212T183000
DTEND;TZID=Europe/Berlin:20231212T203000
DTSTAMP:20260425T123618
CREATED:20231129T151246Z
LAST-MODIFIED:20231129T151532Z
UID:2354-1702405800-1702413000@www.freiraumstation.de
SUMMARY:Rückblick & Ausblick „Zukunft Innenstadt” in Borken
DESCRIPTION:Herzliche Einladung! \nGemeinsam mit den Projektpart-ner*innen\, der Stadtverwaltung\, den Stipendiat*innen und der interessierten Öffentlichkeit\, blicken wir auf die letzten Monate zurück und geben einen Ausblick für das kommende Jahr. Kommen Sie vorbei und erfahren mehr über die Zukunft Innenstadt in Borken (Hessen).
URL:https://www.freiraumstation.de/termin/rueckblick-ausblick-zukunft-innenstadt-in-borken/
LOCATION:FreiRaumStation Bahnhofstraße 36\, Borken (Hessen)
CATEGORIES:Bahnhofstraße 36,Borken
ATTACH;FMTTYPE=image/jpeg:https://www.freiraumstation.de/wp-content/uploads/2023/11/freiraum-rueckblick-ausblick.jpeg
ORGANIZER;CN="FreiRaumStation":MAILTO:eva@zukunftsoptimisten.de
END:VEVENT
END:VCALENDAR